BEGIN:VCALENDAR
PRODID:-//Sri Lanka Promotions//NONSGML v1.0//EN
VERSION:2.0
CALSCALE:GREGORIAN
METHOD:PUBLISH
X-WR-CALNAME:Sri Lanka Promotions
X-ORIGINAL-URL:https://srilanka-promotions.com
X-WR-CALDESC:Events for Sri Lanka Promotions
BEGIN:VEVENT
DTSTART:20140328T000000
DTEND:20140330T235900
DTSTAMP:20260421T032047
CREATED:20140327T142409
LAST-MODIFIED:20140327T143640
UID:6706@https://srilanka-promotions.com
SUMMARY:Abans Up To 50% OFF Grand SALE @ BMICH 28 - 30 Mar 2014
DESCRIPTION:Abans will be having a Grand SALE at Colombo Lifestyle Fair happening from 28 March at BMICH.. For more information, visit [ https://srilanka-promotions.com/happenings/abans-up-to-50-off-grand-sale-bmich-28-30-mar-2014-6706/ ]. 
LOCATION:
URL:https://srilanka-promotions.com/happenings/abans-up-to-50-off-grand-sale-bmich-28-30-mar-2014-6706/
END:VEVENT
END:VCALENDAR