BEGIN:VCALENDAR
PRODID:-//Sri Lanka Promotions//NONSGML v1.0//EN
VERSION:2.0
CALSCALE:GREGORIAN
METHOD:PUBLISH
X-WR-CALNAME:Sri Lanka Promotions
X-ORIGINAL-URL:https://srilanka-promotions.com
X-WR-CALDESC:Events for Sri Lanka Promotions
BEGIN:VEVENT
DTSTART:20140405T000000
DTEND:20140406T235900
DTSTAMP:20260425T172715
CREATED:20140403T140332
LAST-MODIFIED:20140403T140332
UID:6747@https://srilanka-promotions.com
SUMMARY:BOC Cards Up To 10% OFF Card Offer @ 7 Brand Outlets 5 - 6 Apr 2014
DESCRIPTION:Enjoy discounts up to 10% on 5th and 6th April with your Bank of Ceylon card. For more information, visit [ https://srilanka-promotions.com/fashion-accessories/boc-cards-up-to-10-off-card-offer-7-brand-outlets-5-6-apr-2014-6747/ ]. 
LOCATION:
URL:https://srilanka-promotions.com/fashion-accessories/boc-cards-up-to-10-off-card-offer-7-brand-outlets-5-6-apr-2014-6747/
END:VEVENT
END:VCALENDAR