BEGIN:VCALENDAR
PRODID:-//Sri Lanka Promotions//NONSGML v1.0//EN
VERSION:2.0
CALSCALE:GREGORIAN
METHOD:PUBLISH
X-WR-CALNAME:Sri Lanka Promotions
X-ORIGINAL-URL:https://srilanka-promotions.com
X-WR-CALDESC:Events for Sri Lanka Promotions
BEGIN:VEVENT
DTSTART:20140404T000000
DTEND:20140407T235900
DTSTAMP:20260420T163824
CREATED:20140403T140614
LAST-MODIFIED:20140403T140645
UID:6751@https://srilanka-promotions.com
SUMMARY:Singer Clearance SALE @ Womens International Club Hall 4 - 7 Apr 2014
DESCRIPTION:Singer will be having a Clearance SALE at Womens International Club from 4 April to 7 April 2014. For more information, visit [ https://srilanka-promotions.com/household/singer-clearance-sale-womens-international-club-hall-4-7-apr-2014-6751/ ]. 
LOCATION:
URL:https://srilanka-promotions.com/household/singer-clearance-sale-womens-international-club-hall-4-7-apr-2014-6751/
END:VEVENT
END:VCALENDAR