BEGIN:VCALENDAR
PRODID:-//Sri Lanka Promotions//NONSGML v1.0//EN
VERSION:2.0
CALSCALE:GREGORIAN
METHOD:PUBLISH
X-WR-CALNAME:Sri Lanka Promotions
X-ORIGINAL-URL:https://srilanka-promotions.com
X-WR-CALDESC:Events for Sri Lanka Promotions
BEGIN:VEVENT
DTSTART:20140404T000000
DTEND:20140409T235900
DTSTAMP:20260420T234955
CREATED:20140404T183923
LAST-MODIFIED:20140404T191357
UID:6762@https://srilanka-promotions.com
SUMMARY:iHerb 20% OFF Out of Africa, Mamma Chia & Siddatech Flower Essences 4 - 9 Apr 2014
DESCRIPTION:Enjoy an extra 20% off of products from Out of Africa, Mamma Chia and Siddatech Flower Essences. For more information, visit [ https://srilanka-promotions.com/dining-restaurants-food/iherb-20-off-out-of-africa-mamma-chia-siddatech-flower-essences-4-9-apr-2014-6762/ ]. 
LOCATION:
URL:https://srilanka-promotions.com/dining-restaurants-food/iherb-20-off-out-of-africa-mamma-chia-siddatech-flower-essences-4-9-apr-2014-6762/
END:VEVENT
END:VCALENDAR