BEGIN:VCALENDAR
PRODID:-//Sri Lanka Promotions//NONSGML v1.0//EN
VERSION:2.0
CALSCALE:GREGORIAN
METHOD:PUBLISH
X-WR-CALNAME:Sri Lanka Promotions
X-ORIGINAL-URL:https://srilanka-promotions.com
X-WR-CALDESC:Events for Sri Lanka Promotions
BEGIN:VEVENT
DTSTART:20140412T000000
DTEND:20140425T235900
DTSTAMP:20260421T100524
CREATED:20140416T074414
LAST-MODIFIED:20140416T082719
UID:6823@https://srilanka-promotions.com
SUMMARY:Nero 75% OFF 4-in-1 Spring Sofware Bundle 12 - 25 Apr 2014
DESCRIPTION:For a limited time, the multimedia suite Nero 2014 comes bundled with Audials One 11 Special Edition, Avira Antivirus Suite and iolo System Mechanic 12.5 with a total value of $175.93 for FREE.. For more information, visit [ https://srilanka-promotions.com/computers-accessories-software/nero-75-off-4-in-1-spring-sofware-bundle-12-25-apr-2014-6823/ ]. 
LOCATION:
URL:https://srilanka-promotions.com/computers-accessories-software/nero-75-off-4-in-1-spring-sofware-bundle-12-25-apr-2014-6823/
END:VEVENT
END:VCALENDAR