BEGIN:VCALENDAR
PRODID:-//Sri Lanka Promotions//NONSGML v1.0//EN
VERSION:2.0
CALSCALE:GREGORIAN
METHOD:PUBLISH
X-WR-CALNAME:Sri Lanka Promotions
X-ORIGINAL-URL:https://srilanka-promotions.com
X-WR-CALDESC:Events for Sri Lanka Promotions
BEGIN:VEVENT
DTSTART:20140412T000000
DTEND:20140430T235900
DTSTAMP:20260421T180423
CREATED:20140416T084849
LAST-MODIFIED:20140416T082730
UID:6826@https://srilanka-promotions.com
SUMMARY:LightInTheBox $10 OFF Storewide Coupon Code 12 - 30 Apr 2014
DESCRIPTION:Enjoy up to $10 off when you make a minimum purchase of $50.. For more information, visit [ https://srilanka-promotions.com/department-stores/lightinthebox-10-off-storewide-coupon-code-12-30-apr-2014-6826/ ]. 
LOCATION:
URL:https://srilanka-promotions.com/department-stores/lightinthebox-10-off-storewide-coupon-code-12-30-apr-2014-6826/
END:VEVENT
END:VCALENDAR