BEGIN:VCALENDAR
PRODID:-//Sri Lanka Promotions//NONSGML v1.0//EN
VERSION:2.0
CALSCALE:GREGORIAN
METHOD:PUBLISH
X-WR-CALNAME:Sri Lanka Promotions
X-ORIGINAL-URL:https://srilanka-promotions.com
X-WR-CALDESC:Events for Sri Lanka Promotions
BEGIN:VEVENT
DTSTART:20140417T000000
DTEND:20140928T235900
DTSTAMP:20260421T114723
CREATED:20140417T135732
LAST-MODIFIED:20140815T134105
UID:6832@https://srilanka-promotions.com
SUMMARY:FatCow Web Hosting 75 Cents Per Month Cheep Sheep Promo 17 Apr 2014
DESCRIPTION:For a limited time, FatCow is offering a 75 cents per month "Cheap Sheep" plan featuring FREE Domain Registration, 2 GB Storage and 200 GB Bandwidth. For more information, visit [ https://srilanka-promotions.com/computers-accessories-software/fatcow-web-hosting-75-cents-per-month-cheep-sheep-promo-17-apr-2014-6832/ ]. 
LOCATION:
URL:https://srilanka-promotions.com/computers-accessories-software/fatcow-web-hosting-75-cents-per-month-cheep-sheep-promo-17-apr-2014-6832/
END:VEVENT
END:VCALENDAR