BEGIN:VCALENDAR
PRODID:-//Sri Lanka Promotions//NONSGML v1.0//EN
VERSION:2.0
CALSCALE:GREGORIAN
METHOD:PUBLISH
X-WR-CALNAME:Sri Lanka Promotions
X-ORIGINAL-URL:https://srilanka-promotions.com
X-WR-CALDESC:Events for Sri Lanka Promotions
BEGIN:VEVENT
DTSTART:20140419T000000
DTEND:20140430T235900
DTSTAMP:20260423T163302
CREATED:20140426T084648
LAST-MODIFIED:20140426T142644
UID:6846@https://srilanka-promotions.com
SUMMARY:Trend Micro 40% OFF Titanium Premium Security 19 - 30 Apr 2014
DESCRIPTION:For the month of April, Trend Micro Titanium Premium Security will be at a new low price of US$59.95. For more information, visit [ https://srilanka-promotions.com/computers-accessories-software/trend-micro-40-off-titanium-premium-security-19-30-apr-2014-6846/ ]. 
LOCATION:
URL:https://srilanka-promotions.com/computers-accessories-software/trend-micro-40-off-titanium-premium-security-19-30-apr-2014-6846/
END:VEVENT
END:VCALENDAR