BEGIN:VCALENDAR
PRODID:-//Sri Lanka Promotions//NONSGML v1.0//EN
VERSION:2.0
CALSCALE:GREGORIAN
METHOD:PUBLISH
X-WR-CALNAME:Sri Lanka Promotions
X-ORIGINAL-URL:https://srilanka-promotions.com
X-WR-CALDESC:Events for Sri Lanka Promotions
BEGIN:VEVENT
DTSTART:20140509T000000
DTEND:20140514T235900
DTSTAMP:20260421T150406
CREATED:20140509T071036
LAST-MODIFIED:20140508T234118
UID:6939@https://srilanka-promotions.com
SUMMARY:iHerb 20% OFF 5-HTP Products Promo 9 - 14 May 2014
DESCRIPTION:5-HTP is a natural appetite suppressant that helps to control food cravings. For more information, visit [ https://srilanka-promotions.com/dining-restaurants-food/iherb-20-off-5-htp-products-promo-9-14-may-2014-6939/ ]. 
LOCATION:
URL:https://srilanka-promotions.com/dining-restaurants-food/iherb-20-off-5-htp-products-promo-9-14-may-2014-6939/
END:VEVENT
END:VCALENDAR