BEGIN:VCALENDAR
PRODID:-//Sri Lanka Promotions//NONSGML v1.0//EN
VERSION:2.0
CALSCALE:GREGORIAN
METHOD:PUBLISH
X-WR-CALNAME:Sri Lanka Promotions
X-ORIGINAL-URL:https://srilanka-promotions.com
X-WR-CALDESC:Events for Sri Lanka Promotions
BEGIN:VEVENT
DTSTART:20140516T000000
DTEND:20140531T235900
DTSTAMP:20260421T180736
CREATED:20140516T151624
LAST-MODIFIED:20140516T144752
UID:6956@https://srilanka-promotions.com
SUMMARY:LightInTheBox $10 OFF Storewide Coupon Code 16 - 31 May 2014
DESCRIPTION:Enjoy up to $10 off when you make a minimum purchase of $50.. For more information, visit [ https://srilanka-promotions.com/department-stores/lightinthebox-10-off-storewide-coupon-code-16-31-may-2014-6956/ ]. 
LOCATION:
URL:https://srilanka-promotions.com/department-stores/lightinthebox-10-off-storewide-coupon-code-16-31-may-2014-6956/
END:VEVENT
END:VCALENDAR