BEGIN:VCALENDAR
PRODID:-//Sri Lanka Promotions//NONSGML v1.0//EN
VERSION:2.0
CALSCALE:GREGORIAN
METHOD:PUBLISH
X-WR-CALNAME:Sri Lanka Promotions
X-ORIGINAL-URL:https://srilanka-promotions.com
X-WR-CALDESC:Events for Sri Lanka Promotions
BEGIN:VEVENT
DTSTART:20140613T000000
DTEND:20140630T235900
DTSTAMP:20260421T162616
CREATED:20140613T182403
LAST-MODIFIED:20140613T190915
UID:7004@https://srilanka-promotions.com
SUMMARY:GOG Up To 90% OFF PC Games Summer SALE 13 - 30 Jun 2014
DESCRIPTION:Featuring over 700 PC games discounted up to 90% off, daily special Bundle Deals, a constant stream of Flash Sales and more. For more information, visit [ https://srilanka-promotions.com/computers-accessories-software/gog-up-to-90-off-pc-games-summer-sale-13-30-jun-2014-7004/ ]. 
LOCATION:
URL:https://srilanka-promotions.com/computers-accessories-software/gog-up-to-90-off-pc-games-summer-sale-13-30-jun-2014-7004/
END:VEVENT
END:VCALENDAR