BEGIN:VCALENDAR
PRODID:-//Sri Lanka Promotions//NONSGML v1.0//EN
VERSION:2.0
CALSCALE:GREGORIAN
METHOD:PUBLISH
X-WR-CALNAME:Sri Lanka Promotions
X-ORIGINAL-URL:https://srilanka-promotions.com
X-WR-CALDESC:Events for Sri Lanka Promotions
BEGIN:VEVENT
DTSTART:20140625T000000
DTEND:20140723T235900
DTSTAMP:20260425T122809
CREATED:20140629T140923
LAST-MODIFIED:20140629T140923
UID:7056@https://srilanka-promotions.com
SUMMARY:McDonald's FREE Coca-Cola Glass Promo 25 Jun 2014
DESCRIPTION:Get a FREE Coca-Cola glass with every Large Extra Value Meal. For more information, visit [ https://srilanka-promotions.com/dining-restaurants-food/mcdonalds-free-coca-cola-glass-promo-25-jun-2014-7056/ ]. 
LOCATION:
URL:https://srilanka-promotions.com/dining-restaurants-food/mcdonalds-free-coca-cola-glass-promo-25-jun-2014-7056/
END:VEVENT
END:VCALENDAR