BEGIN:VCALENDAR
PRODID:-//Sri Lanka Promotions//NONSGML v1.0//EN
VERSION:2.0
CALSCALE:GREGORIAN
METHOD:PUBLISH
X-WR-CALNAME:Sri Lanka Promotions
X-ORIGINAL-URL:https://srilanka-promotions.com
X-WR-CALDESC:Events for Sri Lanka Promotions
BEGIN:VEVENT
DTSTART:20120629T000000
DTEND:20120701T235900
DTSTAMP:20260420T224857
CREATED:20120626T130405
LAST-MODIFIED:20120628T145305
UID:706@https://srilanka-promotions.com
SUMMARY:Construction Expo 2012 @ BMICH 29 Jun - 1 Jul 2012
DESCRIPTION:Here's one event you don't want to miss if you are looking to do some construction - the Construction Expo 2012 International Exhibition & Symposium for all your building materials and household items under one roof. For more information, visit [ https://srilanka-promotions.com/happenings/construction-expo-2012-bmich-29-jun-1-jul-2012-706/ ]. 
LOCATION:
URL:https://srilanka-promotions.com/happenings/construction-expo-2012-bmich-29-jun-1-jul-2012-706/
END:VEVENT
END:VCALENDAR