BEGIN:VCALENDAR
PRODID:-//Sri Lanka Promotions//NONSGML v1.0//EN
VERSION:2.0
CALSCALE:GREGORIAN
METHOD:PUBLISH
X-WR-CALNAME:Sri Lanka Promotions
X-ORIGINAL-URL:https://srilanka-promotions.com
X-WR-CALDESC:Events for Sri Lanka Promotions
BEGIN:VEVENT
DTSTART:20140806T000000
DTEND:20140808T235900
DTSTAMP:20260423T104338
CREATED:20140806T041904
LAST-MODIFIED:20140806T171750
UID:7134@https://srilanka-promotions.com
SUMMARY:Parallels $15 Off Parallels Desktop 9 Software Promo 6 - 8 Aug 2014
DESCRIPTION:Enjoy a $15 discount on a full license of Parallels Desktop 9 for a limited time. For more information, visit [ https://srilanka-promotions.com/computers-accessories-software/parallels-15-off-parallels-desktop-9-software-promo-6-8-aug-2014-7134/ ]. 
LOCATION:
URL:https://srilanka-promotions.com/computers-accessories-software/parallels-15-off-parallels-desktop-9-software-promo-6-8-aug-2014-7134/
END:VEVENT
END:VCALENDAR