BEGIN:VCALENDAR
PRODID:-//Sri Lanka Promotions//NONSGML v1.0//EN
VERSION:2.0
CALSCALE:GREGORIAN
METHOD:PUBLISH
X-WR-CALNAME:Sri Lanka Promotions
X-ORIGINAL-URL:https://srilanka-promotions.com
X-WR-CALDESC:Events for Sri Lanka Promotions
BEGIN:VEVENT
DTSTART:20140930T000000
DTEND:20141031T235900
DTSTAMP:20260421T180423
CREATED:20140930T140403
LAST-MODIFIED:20140930T153811
UID:7249@https://srilanka-promotions.com
SUMMARY:LightInTheBox $8 OFF Storewide Coupon Code 30 Sep - 31 Oct 2014
DESCRIPTION:Get $8 off when you make a minimum purchase of $78.. For more information, visit [ https://srilanka-promotions.com/department-stores/lightinthebox-8-off-storewide-coupon-code-30-sep-31-oct-2014-7249/ ]. 
LOCATION:
URL:https://srilanka-promotions.com/department-stores/lightinthebox-8-off-storewide-coupon-code-30-sep-31-oct-2014-7249/
END:VEVENT
END:VCALENDAR