BEGIN:VCALENDAR
PRODID:-//Sri Lanka Promotions//NONSGML v1.0//EN
VERSION:2.0
CALSCALE:GREGORIAN
METHOD:PUBLISH
X-WR-CALNAME:Sri Lanka Promotions
X-ORIGINAL-URL:https://srilanka-promotions.com
X-WR-CALDESC:Events for Sri Lanka Promotions
BEGIN:VEVENT
DTSTART:20140930T000000
DTEND:20141005T235900
DTSTAMP:20260423T145515
CREATED:20140930T101736
LAST-MODIFIED:20140930T153940
UID:7256@https://srilanka-promotions.com
SUMMARY:HotelClub 10% OFF Coupon Code 30 Sep - 5 Oct 2014
DESCRIPTION:Enjoy 10% off hotels worldwide from HotelClub with the coupon code below. For more information, visit [ https://srilanka-promotions.com/vacations/hotelclub-10-off-coupon-code-30-sep-5-oct-2014-7256/ ]. 
LOCATION:
URL:https://srilanka-promotions.com/vacations/hotelclub-10-off-coupon-code-30-sep-5-oct-2014-7256/
END:VEVENT
END:VCALENDAR