BEGIN:VCALENDAR
PRODID:-//Sri Lanka Promotions//NONSGML v1.0//EN
VERSION:2.0
CALSCALE:GREGORIAN
METHOD:PUBLISH
X-WR-CALNAME:Sri Lanka Promotions
X-ORIGINAL-URL:https://srilanka-promotions.com
X-WR-CALDESC:Events for Sri Lanka Promotions
BEGIN:VEVENT
DTSTART:20141007T000000
DTEND:20141007T235900
DTSTAMP:20260419T191554
CREATED:20141005T155320
LAST-MODIFIED:20141005T155423
UID:7309@https://srilanka-promotions.com
SUMMARY:Dell E-Carnival @ BMICH 7 Oct 2014
DESCRIPTION:Enjoy amazing offers on eMovies, eMusic, eLibrary, eGames, eFun. For more information, visit [ https://srilanka-promotions.com/happenings/dell-e-carnival-bmich-7-oct-2014-7309/ ]. 
LOCATION:
URL:https://srilanka-promotions.com/happenings/dell-e-carnival-bmich-7-oct-2014-7309/
END:VEVENT
END:VCALENDAR