BEGIN:VCALENDAR
PRODID:-//Sri Lanka Promotions//NONSGML v1.0//EN
VERSION:2.0
CALSCALE:GREGORIAN
METHOD:PUBLISH
X-WR-CALNAME:Sri Lanka Promotions
X-ORIGINAL-URL:https://srilanka-promotions.com
X-WR-CALDESC:Events for Sri Lanka Promotions
BEGIN:VEVENT
DTSTART:20141014T000000
DTEND:20141031T235900
DTSTAMP:20260421T180541
CREATED:20141014T080736
LAST-MODIFIED:20141014T131152
UID:7378@https://srilanka-promotions.com
SUMMARY:LightInTheBox $20 OFF Storewide Coupon Code 14 - 31 Oct 2014
DESCRIPTION:Get up to $20 off when you make a minimum purchase of $50.. For more information, visit [ https://srilanka-promotions.com/department-stores/lightinthebox-20-off-storewide-coupon-code-14-31-oct-2014-7378/ ]. 
LOCATION:
URL:https://srilanka-promotions.com/department-stores/lightinthebox-20-off-storewide-coupon-code-14-31-oct-2014-7378/
END:VEVENT
END:VCALENDAR