BEGIN:VCALENDAR
PRODID:-//Sri Lanka Promotions//NONSGML v1.0//EN
VERSION:2.0
CALSCALE:GREGORIAN
METHOD:PUBLISH
X-WR-CALNAME:Sri Lanka Promotions
X-ORIGINAL-URL:https://srilanka-promotions.com
X-WR-CALDESC:Events for Sri Lanka Promotions
BEGIN:VEVENT
DTSTART:20141014T000000
DTEND:20150131T235900
DTSTAMP:20260421T180348
CREATED:20141014T080802
LAST-MODIFIED:20141014T131208
UID:7379@https://srilanka-promotions.com
SUMMARY:LightInTheBox $100 OFF Storewide Coupon Codes 14 Oct 2014 - 31 Jan 2015
DESCRIPTION:Get up to $100 off when you make a minimum purchase of $300.. For more information, visit [ https://srilanka-promotions.com/department-stores/lightinthebox-100-off-storewide-coupon-codes-14-oct-2014-31-jan-2015-7379/ ]. 
LOCATION:
URL:https://srilanka-promotions.com/department-stores/lightinthebox-100-off-storewide-coupon-codes-14-oct-2014-31-jan-2015-7379/
END:VEVENT
END:VCALENDAR