BEGIN:VCALENDAR
PRODID:-//Sri Lanka Promotions//NONSGML v1.0//EN
VERSION:2.0
CALSCALE:GREGORIAN
METHOD:PUBLISH
X-WR-CALNAME:Sri Lanka Promotions
X-ORIGINAL-URL:https://srilanka-promotions.com
X-WR-CALDESC:Events for Sri Lanka Promotions
BEGIN:VEVENT
DTSTART:20120516T000000
DTEND:20120531T235900
DTSTAMP:20260420T201240
CREATED:20120521T200933
LAST-MODIFIED:20120521T200933
UID:74@https://srilanka-promotions.com
SUMMARY:Triumph 20% Off Cotton & More Bras 16 - 31 May 2012
DESCRIPTION:Triumph is having a promotion for Cotton & More bras from 16 May to 31 May 2012. Enjoy a special price of Rs 716, that's 20% off the usual price of Rs 895. For more information, visit [ https://srilanka-promotions.com/fashion-accessories/triumph-20-off-cotton-more-bras-16-31-may-2012-74/ ]. 
LOCATION:
URL:https://srilanka-promotions.com/fashion-accessories/triumph-20-off-cotton-more-bras-16-31-may-2012-74/
END:VEVENT
END:VCALENDAR