BEGIN:VCALENDAR
PRODID:-//Sri Lanka Promotions//NONSGML v1.0//EN
VERSION:2.0
CALSCALE:GREGORIAN
METHOD:PUBLISH
X-WR-CALNAME:Sri Lanka Promotions
X-ORIGINAL-URL:https://srilanka-promotions.com
X-WR-CALDESC:Events for Sri Lanka Promotions
BEGIN:VEVENT
DTSTART:20141115T000000
DTEND:20141231T235900
DTSTAMP:20260424T131017
CREATED:20141118T032738
LAST-MODIFIED:20150110T082435
UID:7512@https://srilanka-promotions.com
SUMMARY:CyberLink PowerDVD & Other Software 5% OFF Coupon Codes 15 Nov - 31 Dec 2014
DESCRIPTION:Get an extra 5% savings storewide by using the following coupon codes. For more information, visit [ https://srilanka-promotions.com/computers-accessories-software/cyberlink-powerdvd-other-software-5-off-coupon-codes-15-nov-31-dec-2014-7512/ ]. 
LOCATION:
URL:https://srilanka-promotions.com/computers-accessories-software/cyberlink-powerdvd-other-software-5-off-coupon-codes-15-nov-31-dec-2014-7512/
END:VEVENT
END:VCALENDAR