BEGIN:VCALENDAR
PRODID:-//Sri Lanka Promotions//NONSGML v1.0//EN
VERSION:2.0
CALSCALE:GREGORIAN
METHOD:PUBLISH
X-WR-CALNAME:Sri Lanka Promotions
X-ORIGINAL-URL:https://srilanka-promotions.com
X-WR-CALDESC:Events for Sri Lanka Promotions
BEGIN:VEVENT
DTSTART:20141125T000000
DTEND:20141130T235900
DTSTAMP:20260424T011513
CREATED:20141127T174419
LAST-MODIFIED:20141127T225532
UID:7549@https://srilanka-promotions.com
SUMMARY:LightInTheBox $10 OFF Black Friday Coupon Code 25 - 30 Nov 2014
DESCRIPTION:Get $10 off when you make a minimum purchase of $84.. For more information, visit [ https://srilanka-promotions.com/department-stores/lightinthebox-10-off-black-friday-coupon-code-25-30-nov-2014-7549/ ]. 
LOCATION:
URL:https://srilanka-promotions.com/department-stores/lightinthebox-10-off-black-friday-coupon-code-25-30-nov-2014-7549/
END:VEVENT
END:VCALENDAR