BEGIN:VCALENDAR
PRODID:-//Sri Lanka Promotions//NONSGML v1.0//EN
VERSION:2.0
CALSCALE:GREGORIAN
METHOD:PUBLISH
X-WR-CALNAME:Sri Lanka Promotions
X-ORIGINAL-URL:https://srilanka-promotions.com
X-WR-CALDESC:Events for Sri Lanka Promotions
BEGIN:VEVENT
DTSTART:20141128T000000
DTEND:20141130T235900
DTSTAMP:20260422T182503
CREATED:20141127T225343
LAST-MODIFIED:20141127T225343
UID:7564@https://srilanka-promotions.com
SUMMARY:Panda Security Up To 50% Off Black Friday Promo 28 - 30 Nov 2014
DESCRIPTION:Get maximum security for all your device at a special price during this period. For more information, visit [ https://srilanka-promotions.com/computers-accessories-software/panda-security-up-to-50-off-black-friday-promo-28-30-nov-2014-7564/ ]. 
LOCATION:
URL:https://srilanka-promotions.com/computers-accessories-software/panda-security-up-to-50-off-black-friday-promo-28-30-nov-2014-7564/
END:VEVENT
END:VCALENDAR