BEGIN:VCALENDAR
PRODID:-//Sri Lanka Promotions//NONSGML v1.0//EN
VERSION:2.0
CALSCALE:GREGORIAN
METHOD:PUBLISH
X-WR-CALNAME:Sri Lanka Promotions
X-ORIGINAL-URL:https://srilanka-promotions.com
X-WR-CALDESC:Events for Sri Lanka Promotions
BEGIN:VEVENT
DTSTART:20141128T000000
DTEND:20141201T235900
DTSTAMP:20260424T011356
CREATED:20141127T231011
LAST-MODIFIED:20141127T231011
UID:7568@https://srilanka-promotions.com
SUMMARY:F-Secure Internet Security 50% OFF Black Friday Coupon Code 28 Nov - 1 Dec 2014
DESCRIPTION:Black Friday and Cyber Monday promo, which will be valid between November 28th and December 1st. For more information, visit [ https://srilanka-promotions.com/computers-accessories-software/f-secure-internet-security-50-off-black-friday-coupon-code-28-nov-1-dec-2014-7568/ ]. 
LOCATION:
URL:https://srilanka-promotions.com/computers-accessories-software/f-secure-internet-security-50-off-black-friday-coupon-code-28-nov-1-dec-2014-7568/
END:VEVENT
END:VCALENDAR