BEGIN:VCALENDAR
PRODID:-//Sri Lanka Promotions//NONSGML v1.0//EN
VERSION:2.0
CALSCALE:GREGORIAN
METHOD:PUBLISH
X-WR-CALNAME:Sri Lanka Promotions
X-ORIGINAL-URL:https://srilanka-promotions.com
X-WR-CALDESC:Events for Sri Lanka Promotions
BEGIN:VEVENT
DTSTART:20141128T000000
DTEND:20141201T235900
DTSTAMP:20260422T204049
CREATED:20141127T233415
LAST-MODIFIED:20141127T233415
UID:7571@https://srilanka-promotions.com
SUMMARY:Trend Micro 50% OFF Black Friday & Cyber Monday Sale 28 Nov - 1 Dec 2014
DESCRIPTION:Black Friday & Cyber Monday Sale featuring 50% Storewide. For more information, visit [ https://srilanka-promotions.com/computers-accessories-software/trend-micro-50-off-black-friday-cyber-monday-sale-28-nov-1-dec-2014-7571/ ]. 
LOCATION:
URL:https://srilanka-promotions.com/computers-accessories-software/trend-micro-50-off-black-friday-cyber-monday-sale-28-nov-1-dec-2014-7571/
END:VEVENT
END:VCALENDAR