BEGIN:VCALENDAR
PRODID:-//Sri Lanka Promotions//NONSGML v1.0//EN
VERSION:2.0
CALSCALE:GREGORIAN
METHOD:PUBLISH
X-WR-CALNAME:Sri Lanka Promotions
X-ORIGINAL-URL:https://srilanka-promotions.com
X-WR-CALDESC:Events for Sri Lanka Promotions
BEGIN:VEVENT
DTSTART:20141226T000000
DTEND:20141231T235900
DTSTAMP:20260421T100601
CREATED:20141225T084342
LAST-MODIFIED:20150106T130915
UID:7642@https://srilanka-promotions.com
SUMMARY:LightInTheBox $11 OFF Storewide Coupon Code 26 Dec 2014
DESCRIPTION:Get $11 off when you make a minimum purchase of $100.. For more information, visit [ https://srilanka-promotions.com/department-stores/lightinthebox-11-off-storewide-coupon-code-26-dec-2014-7642/ ]. 
LOCATION:
URL:https://srilanka-promotions.com/department-stores/lightinthebox-11-off-storewide-coupon-code-26-dec-2014-7642/
END:VEVENT
END:VCALENDAR