BEGIN:VCALENDAR
PRODID:-//Sri Lanka Promotions//NONSGML v1.0//EN
VERSION:2.0
CALSCALE:GREGORIAN
METHOD:PUBLISH
X-WR-CALNAME:Sri Lanka Promotions
X-ORIGINAL-URL:https://srilanka-promotions.com
X-WR-CALDESC:Events for Sri Lanka Promotions
BEGIN:VEVENT
DTSTART:20150122T000000
DTEND:20150131T235900
DTSTAMP:20260424T190004
CREATED:20150121T225702
LAST-MODIFIED:20150121T225702
UID:7772@https://srilanka-promotions.com
SUMMARY:Avira 35% OFF Internet Security Suite, Antivirus Pro & More Coupon Codes 22 - 31 Jan 2015
DESCRIPTION:Get up to 35% OFF Avira Internet Security, Avira Antivirus Pro and Ultimate Protection Suite. For more information, visit [ https://srilanka-promotions.com/computers-accessories-software/avira-35-off-internet-security-suite-antivirus-pro-more-coupon-codes-22-31-jan-2015-7772/ ]. 
LOCATION:
URL:https://srilanka-promotions.com/computers-accessories-software/avira-35-off-internet-security-suite-antivirus-pro-more-coupon-codes-22-31-jan-2015-7772/
END:VEVENT
END:VCALENDAR