BEGIN:VCALENDAR
PRODID:-//Sri Lanka Promotions//NONSGML v1.0//EN
VERSION:2.0
CALSCALE:GREGORIAN
METHOD:PUBLISH
X-WR-CALNAME:Sri Lanka Promotions
X-ORIGINAL-URL:https://srilanka-promotions.com
X-WR-CALDESC:Events for Sri Lanka Promotions
BEGIN:VEVENT
DTSTART:20150130T000000
DTEND:20150131T235900
DTSTAMP:20260422T025307
CREATED:20150121T230205
LAST-MODIFIED:20150121T230242
UID:7782@https://srilanka-promotions.com
SUMMARY:Srilankan Airlines Up To 30% OFF Fares @ EDEX Expo Kandy City Centre 30 - 31 Jan 2015
DESCRIPTION:Enjoy up to 30% off to SriLankan online destinations at EDEX Education Exhibition & Job Fair Expo 2015 at Kandy City Centre. For more information, visit [ https://srilanka-promotions.com/airlines-flights/srilankan-airlines-up-to-30-off-fares-edex-expo-kandy-city-centre-30-31-jan-2015-7782/ ]. 
LOCATION:
URL:https://srilanka-promotions.com/airlines-flights/srilankan-airlines-up-to-30-off-fares-edex-expo-kandy-city-centre-30-31-jan-2015-7782/
END:VEVENT
END:VCALENDAR