BEGIN:VCALENDAR
PRODID:-//Sri Lanka Promotions//NONSGML v1.0//EN
VERSION:2.0
CALSCALE:GREGORIAN
METHOD:PUBLISH
X-WR-CALNAME:Sri Lanka Promotions
X-ORIGINAL-URL:https://srilanka-promotions.com
X-WR-CALDESC:Events for Sri Lanka Promotions
BEGIN:VEVENT
DTSTART:20150201T000000
DTEND:20150218T235900
DTSTAMP:20260421T100601
CREATED:20150201T144115
LAST-MODIFIED:20150201T144216
UID:7842@https://srilanka-promotions.com
SUMMARY:LightInTheBox $12 OFF Storewide Coupon Code 1 - 18 Feb 2015
DESCRIPTION:Get $12 off when you make a minimum purchase of $120.. For more information, visit [ https://srilanka-promotions.com/department-stores/lightinthebox-12-off-storewide-coupon-code-1-18-feb-2015-7842/ ]. 
LOCATION:
URL:https://srilanka-promotions.com/department-stores/lightinthebox-12-off-storewide-coupon-code-1-18-feb-2015-7842/
END:VEVENT
END:VCALENDAR