BEGIN:VCALENDAR
PRODID:-//Sri Lanka Promotions//NONSGML v1.0//EN
VERSION:2.0
CALSCALE:GREGORIAN
METHOD:PUBLISH
X-WR-CALNAME:Sri Lanka Promotions
X-ORIGINAL-URL:https://srilanka-promotions.com
X-WR-CALDESC:Events for Sri Lanka Promotions
BEGIN:VEVENT
DTSTART:20150201T000000
DTEND:20150203T235900
DTSTAMP:20260420T234757
CREATED:20150201T144337
LAST-MODIFIED:20150201T144337
UID:7848@https://srilanka-promotions.com
SUMMARY:LightInTheBox $2 OFF Shoes Coupon Code 1 - 3 Feb 2015
DESCRIPTION:Get $2 off shoes when you make a minimum purchase of $20.. For more information, visit [ https://srilanka-promotions.com/footwear/lightinthebox-2-off-shoes-coupon-code-1-3-feb-2015-7848/ ]. 
LOCATION:
URL:https://srilanka-promotions.com/footwear/lightinthebox-2-off-shoes-coupon-code-1-3-feb-2015-7848/
END:VEVENT
END:VCALENDAR