BEGIN:VCALENDAR
PRODID:-//Sri Lanka Promotions//NONSGML v1.0//EN
VERSION:2.0
CALSCALE:GREGORIAN
METHOD:PUBLISH
X-WR-CALNAME:Sri Lanka Promotions
X-ORIGINAL-URL:https://srilanka-promotions.com
X-WR-CALDESC:Events for Sri Lanka Promotions
BEGIN:VEVENT
DTSTART:20120523T000000
DTEND:20120610T235900
DTSTAMP:20260419T222046
CREATED:20120523T210616
LAST-MODIFIED:20120523T211328
UID:80@https://srilanka-promotions.com
SUMMARY:Harpo's Pizza 50% Off Second Pizza Promotion 23 May 2012
DESCRIPTION:Harpo's is having a Happy Hour promotion on weekdays (Mon - Fri), 4pm to 6pm only. Buy a regular (9") or large (12") pizza and get the second at 50% off!. For more information, visit [ https://srilanka-promotions.com/dining-restaurants-food/harpos-pizza-50-off-second-pizza-promotion-23-may-2012-80/ ]. 
LOCATION:
URL:https://srilanka-promotions.com/dining-restaurants-food/harpos-pizza-50-off-second-pizza-promotion-23-may-2012-80/
END:VEVENT
END:VCALENDAR