BEGIN:VCALENDAR
PRODID:-//Sri Lanka Promotions//NONSGML v1.0//EN
VERSION:2.0
CALSCALE:GREGORIAN
METHOD:PUBLISH
X-WR-CALNAME:Sri Lanka Promotions
X-ORIGINAL-URL:https://srilanka-promotions.com
X-WR-CALDESC:Events for Sri Lanka Promotions
BEGIN:VEVENT
DTSTART:20150327T000000
DTEND:20150329T235900
DTSTAMP:20260420T163238
CREATED:20150327T153833
LAST-MODIFIED:20150327T153833
UID:8053@https://srilanka-promotions.com
SUMMARY:Softlogic Up To 50% OFF Clearance SALE 27 - 29 Mar 2015
DESCRIPTION:Get up to 50% OFF branded products at Women's International Club Hall. For more information, visit [ https://srilanka-promotions.com/warehouse-sales/softlogic-up-to-50-off-clearance-sale-27-29-mar-2015-8053/ ]. 
LOCATION:
URL:https://srilanka-promotions.com/warehouse-sales/softlogic-up-to-50-off-clearance-sale-27-29-mar-2015-8053/
END:VEVENT
END:VCALENDAR