BEGIN:VCALENDAR
PRODID:-//Sri Lanka Promotions//NONSGML v1.0//EN
VERSION:2.0
CALSCALE:GREGORIAN
METHOD:PUBLISH
X-WR-CALNAME:Sri Lanka Promotions
X-ORIGINAL-URL:https://srilanka-promotions.com
X-WR-CALDESC:Events for Sri Lanka Promotions
BEGIN:VEVENT
DTSTART:20150406T000000
DTEND:20150412T235900
DTSTAMP:20260420T235530
CREATED:20150403T072227
LAST-MODIFIED:20150403T002507
UID:8093@https://srilanka-promotions.com
SUMMARY:National Savings Bank Free Gifts Giveaway 6 Apr 2015
DESCRIPTION:Step into any NSB branch or deposit money from abroad in favour of Avurudu Wasana savings certificates and get a FREE gift. For more information, visit [ https://srilanka-promotions.com/credit-cards-loans/national-savings-bank-free-gifts-giveaway-6-apr-2015-8093/ ]. 
LOCATION:
URL:https://srilanka-promotions.com/credit-cards-loans/national-savings-bank-free-gifts-giveaway-6-apr-2015-8093/
END:VEVENT
END:VCALENDAR