BEGIN:VCALENDAR
PRODID:-//Sri Lanka Promotions//NONSGML v1.0//EN
VERSION:2.0
CALSCALE:GREGORIAN
METHOD:PUBLISH
X-WR-CALNAME:Sri Lanka Promotions
X-ORIGINAL-URL:https://srilanka-promotions.com
X-WR-CALDESC:Events for Sri Lanka Promotions
BEGIN:VEVENT
DTSTART:20150409T000000
DTEND:20150419T235900
DTSTAMP:20260419T134932
CREATED:20150409T111140
LAST-MODIFIED:20150409T111140
UID:8120@https://srilanka-promotions.com
SUMMARY:LightInTheBox $7 OFF $65 Spend Storewide Coupon Code 9 - 19 Apr 2015
DESCRIPTION:Get $7 off when you make a minimum purchase of $90.. For more information, visit [ https://srilanka-promotions.com/department-stores/lightinthebox-7-off-65-spend-storewide-coupon-code-9-19-apr-2015-8120/ ]. 
LOCATION:
URL:https://srilanka-promotions.com/department-stores/lightinthebox-7-off-65-spend-storewide-coupon-code-9-19-apr-2015-8120/
END:VEVENT
END:VCALENDAR