BEGIN:VCALENDAR
PRODID:-//Sri Lanka Promotions//NONSGML v1.0//EN
VERSION:2.0
CALSCALE:GREGORIAN
METHOD:PUBLISH
X-WR-CALNAME:Sri Lanka Promotions
X-ORIGINAL-URL:https://srilanka-promotions.com
X-WR-CALDESC:Events for Sri Lanka Promotions
BEGIN:VEVENT
DTSTART:20150424T000000
DTEND:20150701T235900
DTSTAMP:20260424T051817
CREATED:20150424T142502
LAST-MODIFIED:20150424T142502
UID:8168@https://srilanka-promotions.com
SUMMARY:LightInTheBox $5 OFF $50 Spend Storewide Coupon Code 24 Apr - 1 Jul 2015
DESCRIPTION:Get $5 off when you make a minimum purchase of $90.. For more information, visit [ https://srilanka-promotions.com/department-stores/lightinthebox-5-off-50-spend-storewide-coupon-code-24-apr-1-jul-2015-8168/ ]. 
LOCATION:
URL:https://srilanka-promotions.com/department-stores/lightinthebox-5-off-50-spend-storewide-coupon-code-24-apr-1-jul-2015-8168/
END:VEVENT
END:VCALENDAR