BEGIN:VCALENDAR
PRODID:-//Sri Lanka Promotions//NONSGML v1.0//EN
VERSION:2.0
CALSCALE:GREGORIAN
METHOD:PUBLISH
X-WR-CALNAME:Sri Lanka Promotions
X-ORIGINAL-URL:https://srilanka-promotions.com
X-WR-CALDESC:Events for Sri Lanka Promotions
BEGIN:VEVENT
DTSTART:20120701T000000
DTEND:20120731T235900
DTSTAMP:20260421T114738
CREATED:20120701T131755
LAST-MODIFIED:20120802T182719
UID:818@https://srilanka-promotions.com
SUMMARY:Keells Super Double Deals Promotion 1 - 31 Jul 2012
DESCRIPTION:Keells Super is offering a Double Deals promotion - buy 2 of any selected items and enjoy fabulous savings from 1 July till 31 July 2012. Terms and conditions apply. For more information, visit [ https://srilanka-promotions.com/dining-restaurants-food/keells-super-double-deals-promotion-1-31-jul-2012-818/ ]. 
LOCATION:
URL:https://srilanka-promotions.com/dining-restaurants-food/keells-super-double-deals-promotion-1-31-jul-2012-818/
END:VEVENT
END:VCALENDAR