BEGIN:VCALENDAR
PRODID:-//Sri Lanka Promotions//NONSGML v1.0//EN
VERSION:2.0
CALSCALE:GREGORIAN
METHOD:PUBLISH
X-WR-CALNAME:Sri Lanka Promotions
X-ORIGINAL-URL:https://srilanka-promotions.com
X-WR-CALDESC:Events for Sri Lanka Promotions
BEGIN:VEVENT
DTSTART:20150429T000000
DTEND:20150506T235900
DTSTAMP:20260424T051955
CREATED:20150428T184054
LAST-MODIFIED:20150429T114758
UID:8201@https://srilanka-promotions.com
SUMMARY:LightInTheBox $10 OFF $95 Spend Storewide Coupon Code 29 Apr - 6 May 2015
DESCRIPTION:Get $10 off when you make a minimum purchase of $95.. For more information, visit [ https://srilanka-promotions.com/department-stores/lightinthebox-10-off-95-spend-storewide-coupon-code-29-apr-6-may-2015-8201/ ]. 
LOCATION:
URL:https://srilanka-promotions.com/department-stores/lightinthebox-10-off-95-spend-storewide-coupon-code-29-apr-6-may-2015-8201/
END:VEVENT
END:VCALENDAR