BEGIN:VCALENDAR
PRODID:-//Sri Lanka Promotions//NONSGML v1.0//EN
VERSION:2.0
CALSCALE:GREGORIAN
METHOD:PUBLISH
X-WR-CALNAME:Sri Lanka Promotions
X-ORIGINAL-URL:https://srilanka-promotions.com
X-WR-CALDESC:Events for Sri Lanka Promotions
BEGIN:VEVENT
DTSTART:20150523T000000
DTEND:20150526T235900
DTSTAMP:20260420T231325
CREATED:20150523T135417
LAST-MODIFIED:20150523T135417
UID:8301@https://srilanka-promotions.com
SUMMARY:CyberLink 50% OFF PowerDVD 15 Ultra Movie & Media Player Software 23 - 26 May 2015
DESCRIPTION:Free Power2Go 10, a media burning & backup software is also included. For more information, visit [ https://srilanka-promotions.com/computers-accessories-software/cyberlink-50-off-powerdvd-15-ultra-movie-media-player-software-23-26-may-2015-8301/ ]. 
LOCATION:
URL:https://srilanka-promotions.com/computers-accessories-software/cyberlink-50-off-powerdvd-15-ultra-movie-media-player-software-23-26-may-2015-8301/
END:VEVENT
END:VCALENDAR