BEGIN:VCALENDAR
PRODID:-//Sri Lanka Promotions//NONSGML v1.0//EN
VERSION:2.0
CALSCALE:GREGORIAN
METHOD:PUBLISH
X-WR-CALNAME:Sri Lanka Promotions
X-ORIGINAL-URL:https://srilanka-promotions.com
X-WR-CALDESC:Events for Sri Lanka Promotions
BEGIN:VEVENT
DTSTART:20150609T000000
DTEND:20150609T235900
DTSTAMP:20260423T104338
CREATED:20150601T142802
LAST-MODIFIED:20150601T142840
UID:8330@https://srilanka-promotions.com
SUMMARY:HostGator Web Hosting 60% OFF 3hr Promo (930pm to 1230am) 9 Jun 2015
DESCRIPTION:Get 60% off all new hosting packages at HostGator with this coupon code. For more information, visit [ https://srilanka-promotions.com/computers-accessories-software/hostgator-web-hosting-60-off-3hr-promo-930pm-to-1230am-9-jun-2015-8330/ ]. 
LOCATION:
URL:https://srilanka-promotions.com/computers-accessories-software/hostgator-web-hosting-60-off-3hr-promo-930pm-to-1230am-9-jun-2015-8330/
END:VEVENT
END:VCALENDAR