BEGIN:VCALENDAR
PRODID:-//Sri Lanka Promotions//NONSGML v1.0//EN
VERSION:2.0
CALSCALE:GREGORIAN
METHOD:PUBLISH
X-WR-CALNAME:Sri Lanka Promotions
X-ORIGINAL-URL:https://srilanka-promotions.com
X-WR-CALDESC:Events for Sri Lanka Promotions
BEGIN:VEVENT
DTSTART:20150620T000000
DTEND:20150620T235900
DTSTAMP:20260421T150359
CREATED:20150619T190302
LAST-MODIFIED:20150619T190302
UID:8382@https://srilanka-promotions.com
SUMMARY:Cargills Food City 10% OFF Storewide 8am to 10am (2hr) Promo 20 Jun 2015
DESCRIPTION:Bill value must be between Rs. 1000 and Rs. 10,000. For more information, visit [ https://srilanka-promotions.com/department-stores/cargills-food-city-10-off-storewide-8am-to-10am-2hr-promo-20-jun-2015-8382/ ]. 
LOCATION:
URL:https://srilanka-promotions.com/department-stores/cargills-food-city-10-off-storewide-8am-to-10am-2hr-promo-20-jun-2015-8382/
END:VEVENT
END:VCALENDAR