BEGIN:VCALENDAR
PRODID:-//Sri Lanka Promotions//NONSGML v1.0//EN
VERSION:2.0
CALSCALE:GREGORIAN
METHOD:PUBLISH
X-WR-CALNAME:Sri Lanka Promotions
X-ORIGINAL-URL:https://srilanka-promotions.com
X-WR-CALDESC:Events for Sri Lanka Promotions
BEGIN:VEVENT
DTSTART:20150803T000000
DTEND:20150815T235900
DTSTAMP:20260422T122758
CREATED:20150803T212923
LAST-MODIFIED:20150803T212923
UID:8479@https://srilanka-promotions.com
SUMMARY:MiniInTheBox US$5 OFF $45 Spend Storewide Coupon Code 3 - 15 Aug 2015
DESCRIPTION:Get US$5 OFF when you make a minimum purchase of US$45. FREE *worldwide* shipping.. For more information, visit [ https://srilanka-promotions.com/department-stores/miniinthebox-us5-off-45-spend-storewide-coupon-code-3-15-aug-2015-8479/ ]. 
LOCATION:
URL:https://srilanka-promotions.com/department-stores/miniinthebox-us5-off-45-spend-storewide-coupon-code-3-15-aug-2015-8479/
END:VEVENT
END:VCALENDAR