BEGIN:VCALENDAR
PRODID:-//Sri Lanka Promotions//NONSGML v1.0//EN
VERSION:2.0
CALSCALE:GREGORIAN
METHOD:PUBLISH
X-WR-CALNAME:Sri Lanka Promotions
X-ORIGINAL-URL:https://srilanka-promotions.com
X-WR-CALDESC:Events for Sri Lanka Promotions
BEGIN:VEVENT
DTSTART:20150821T000000
DTEND:20150909T235900
DTSTAMP:20260422T123355
CREATED:20150821T111533
LAST-MODIFIED:20150821T111533
UID:8511@https://srilanka-promotions.com
SUMMARY:LightInTheBox $7 OFF $65 Spend Storewide Coupon Code 21 Aug - 9 Sep 2015
DESCRIPTION:Get $7 off when you make a minimum purchase of $90.. For more information, visit [ https://srilanka-promotions.com/department-stores/lightinthebox-7-off-65-spend-storewide-coupon-code-21-aug-9-sep-2015-8511/ ]. 
LOCATION:
URL:https://srilanka-promotions.com/department-stores/lightinthebox-7-off-65-spend-storewide-coupon-code-21-aug-9-sep-2015-8511/
END:VEVENT
END:VCALENDAR