BEGIN:VCALENDAR
PRODID:-//Sri Lanka Promotions//NONSGML v1.0//EN
VERSION:2.0
CALSCALE:GREGORIAN
METHOD:PUBLISH
X-WR-CALNAME:Sri Lanka Promotions
X-ORIGINAL-URL:https://srilanka-promotions.com
X-WR-CALDESC:Events for Sri Lanka Promotions
BEGIN:VEVENT
DTSTART:20150821T000000
DTEND:20150902T235900
DTSTAMP:20260421T162718
CREATED:20150821T111625
LAST-MODIFIED:20150831T143501
UID:8520@https://srilanka-promotions.com
SUMMARY:CyberLink PowerDVD & Other Software 13% OFF Storewide Coupon Code 21 Aug - 2 Sep 2015
DESCRIPTION:Get an extra 13% savings products such as on PowerDVD, PhotoDirector, PowerDirector, Media Suite and more by using the following coupon codes. For more information, visit [ https://srilanka-promotions.com/computers-accessories-software/cyberlink-powerdvd-other-software-13-off-storewide-coupon-code-21-aug-2-sep-2015-8520/ ]. 
LOCATION:
URL:https://srilanka-promotions.com/computers-accessories-software/cyberlink-powerdvd-other-software-13-off-storewide-coupon-code-21-aug-2-sep-2015-8520/
END:VEVENT
END:VCALENDAR