BEGIN:VCALENDAR
PRODID:-//Sri Lanka Promotions//NONSGML v1.0//EN
VERSION:2.0
CALSCALE:GREGORIAN
METHOD:PUBLISH
X-WR-CALNAME:Sri Lanka Promotions
X-ORIGINAL-URL:https://srilanka-promotions.com
X-WR-CALDESC:Events for Sri Lanka Promotions
BEGIN:VEVENT
DTSTART:20150830T000000
DTEND:20150908T235900
DTSTAMP:20260422T122424
CREATED:20150821T081522
LAST-MODIFIED:20150821T111641
UID:8523@https://srilanka-promotions.com
SUMMARY:LightInTheBox $10 OFF $90 Spend Storewide Coupon Code 30 Aug - 8 Sep 2015
DESCRIPTION:Get $10 off when you make a minimum purchase of $90.. For more information, visit [ https://srilanka-promotions.com/department-stores/lightinthebox-10-off-90-spend-storewide-coupon-code-30-aug-8-sep-2015-8523/ ]. 
LOCATION:
URL:https://srilanka-promotions.com/department-stores/lightinthebox-10-off-90-spend-storewide-coupon-code-30-aug-8-sep-2015-8523/
END:VEVENT
END:VCALENDAR