BEGIN:VCALENDAR
PRODID:-//Sri Lanka Promotions//NONSGML v1.0//EN
VERSION:2.0
CALSCALE:GREGORIAN
METHOD:PUBLISH
X-WR-CALNAME:Sri Lanka Promotions
X-ORIGINAL-URL:https://srilanka-promotions.com
X-WR-CALDESC:Events for Sri Lanka Promotions
BEGIN:VEVENT
DTSTART:20150821T000000
DTEND:20150825T235900
DTSTAMP:20260423T095907
CREATED:20150821T111647
LAST-MODIFIED:20150821T111647
UID:8528@https://srilanka-promotions.com
SUMMARY:GOG 60% to 80% OFF Dungeons & Dragons Games Promo 21 - 25 Aug 2015
DESCRIPTION:Get your hands on the entire collection of ten classic Dungeons and Dragons games for only US$21.10.. For more information, visit [ https://srilanka-promotions.com/computers-accessories-software/gog-60-to-80-off-dungeons-dragons-games-promo-21-25-aug-2015-2-8528/ ]. 
LOCATION:
URL:https://srilanka-promotions.com/computers-accessories-software/gog-60-to-80-off-dungeons-dragons-games-promo-21-25-aug-2015-2-8528/
END:VEVENT
END:VCALENDAR