BEGIN:VCALENDAR
PRODID:-//Sri Lanka Promotions//NONSGML v1.0//EN
VERSION:2.0
CALSCALE:GREGORIAN
METHOD:PUBLISH
X-WR-CALNAME:Sri Lanka Promotions
X-ORIGINAL-URL:https://srilanka-promotions.com
X-WR-CALDESC:Events for Sri Lanka Promotions
BEGIN:VEVENT
DTSTART:20150918T000000
DTEND:20150927T235900
DTSTAMP:20260421T100602
CREATED:20150915T111642
LAST-MODIFIED:20150914T222233
UID:8625@https://srilanka-promotions.com
SUMMARY:Colombo International Book Fair 18 - 27 Sep 2015
DESCRIPTION:CIBF is Sri Lanka's best attended and largest consumer Book Fair visited by millions of people during the nine days encompassing two weekends.. For more information, visit [ https://srilanka-promotions.com/happenings/colombo-international-book-fair-18-27-sep-2015-8625/ ]. 
LOCATION:
URL:https://srilanka-promotions.com/happenings/colombo-international-book-fair-18-27-sep-2015-8625/
END:VEVENT
END:VCALENDAR