BEGIN:VCALENDAR
PRODID:-//Sri Lanka Promotions//NONSGML v1.0//EN
VERSION:2.0
CALSCALE:GREGORIAN
METHOD:PUBLISH
X-WR-CALNAME:Sri Lanka Promotions
X-ORIGINAL-URL:https://srilanka-promotions.com
X-WR-CALDESC:Events for Sri Lanka Promotions
BEGIN:VEVENT
DTSTART:20151002T000000
DTEND:20151005T235900
DTSTAMP:20260421T100603
CREATED:20150920T120742
LAST-MODIFIED:20150920T120742
UID:8662@https://srilanka-promotions.com
SUMMARY:Adyapana Higher Education & Career Exhibition @ BMICH 2 - 5 Oct 2015
DESCRIPTION:Over 150 education providers under one roof, free seminars, free career guidance programs and more. For more information, visit [ https://srilanka-promotions.com/happenings/adyapana-higher-education-career-exhibition-bmich-2-5-oct-2015-8662/ ]. 
LOCATION:
URL:https://srilanka-promotions.com/happenings/adyapana-higher-education-career-exhibition-bmich-2-5-oct-2015-8662/
END:VEVENT
END:VCALENDAR