BEGIN:VCALENDAR
PRODID:-//Sri Lanka Promotions//NONSGML v1.0//EN
VERSION:2.0
CALSCALE:GREGORIAN
METHOD:PUBLISH
X-WR-CALNAME:Sri Lanka Promotions
X-ORIGINAL-URL:https://srilanka-promotions.com
X-WR-CALDESC:Events for Sri Lanka Promotions
BEGIN:VEVENT
DTSTART:20150927T000000
DTEND:20151001T235900
DTSTAMP:20260420T051238
CREATED:20150927T122510
LAST-MODIFIED:20150927T122510
UID:8692@https://srilanka-promotions.com
SUMMARY:Acronis True Image 2016 & Cloud Up To 60% Off Promotion 27 Sep - 1 Oct 2015
DESCRIPTION:Get up to 60% off Acronis True Image 2016 and Acronis True Image Cloud for 3 to 5 computers for a limited time. For more information, visit [ https://srilanka-promotions.com/computers-accessories-software/acronis-true-image-2016-cloud-up-to-60-off-promotion-27-sep-1-oct-2015-8692/ ]. 
LOCATION:
URL:https://srilanka-promotions.com/computers-accessories-software/acronis-true-image-2016-cloud-up-to-60-off-promotion-27-sep-1-oct-2015-8692/
END:VEVENT
END:VCALENDAR