BEGIN:VCALENDAR
PRODID:-//Sri Lanka Promotions//NONSGML v1.0//EN
VERSION:2.0
CALSCALE:GREGORIAN
METHOD:PUBLISH
X-WR-CALNAME:Sri Lanka Promotions
X-ORIGINAL-URL:https://srilanka-promotions.com
X-WR-CALDESC:Events for Sri Lanka Promotions
BEGIN:VEVENT
DTSTART:20151001T000000
DTEND:20151001T235900
DTSTAMP:20260424T023947
CREATED:20150930T213601
LAST-MODIFIED:20150930T213601
UID:8728@https://srilanka-promotions.com
SUMMARY:RollerCoaster Tycoon PC Games 75% OFF Promo 1 Oct 2015
DESCRIPTION:Get the ultimate collection of amusement park business ups and downs at 75% OFF from US$1.49. For more information, visit [ https://srilanka-promotions.com/computers-accessories-software/rollercoaster-tycoon-pc-games-75-off-promo-1-oct-2015-8728/ ]. 
LOCATION:
URL:https://srilanka-promotions.com/computers-accessories-software/rollercoaster-tycoon-pc-games-75-off-promo-1-oct-2015-8728/
END:VEVENT
END:VCALENDAR