BEGIN:VCALENDAR
PRODID:-//Sri Lanka Promotions//NONSGML v1.0//EN
VERSION:2.0
CALSCALE:GREGORIAN
METHOD:PUBLISH
X-WR-CALNAME:Sri Lanka Promotions
X-ORIGINAL-URL:https://srilanka-promotions.com
X-WR-CALDESC:Events for Sri Lanka Promotions
BEGIN:VEVENT
DTSTART:20151001T000000
DTEND:20151003T235900
DTSTAMP:20260419T201856
CREATED:20151001T083527
LAST-MODIFIED:20150930T214426
UID:8745@https://srilanka-promotions.com
SUMMARY:Burger King Children's Day Specials @ Rajagiriya 1 - 3 Oct 2015
DESCRIPTION:Get FREE Soft Ice Cream Cone, Iced Milo & Kids' Toy with every kids' meal and more. For more information, visit [ https://srilanka-promotions.com/dining-restaurants-food/burger-king-childrens-day-specials-rajagiriya-1-3-oct-2015-8745/ ]. 
LOCATION:
URL:https://srilanka-promotions.com/dining-restaurants-food/burger-king-childrens-day-specials-rajagiriya-1-3-oct-2015-8745/
END:VEVENT
END:VCALENDAR